BEGIN:VCALENDAR
VERSION:2.0
PRODID:-//New Day Ministries - ECPv6.15.20//NONSGML v1.0//EN
CALSCALE:GREGORIAN
METHOD:PUBLISH
X-WR-CALNAME:New Day Ministries
X-ORIGINAL-URL:https://ndky.org
X-WR-CALDESC:Events for New Day Ministries
REFRESH-INTERVAL;VALUE=DURATION:PT1H
X-Robots-Tag:noindex
X-PUBLISHED-TTL:PT1H
BEGIN:VTIMEZONE
TZID:UTC
BEGIN:STANDARD
TZOFFSETFROM:+0000
TZOFFSETTO:+0000
TZNAME:UTC
DTSTART:20250101T000000
END:STANDARD
END:VTIMEZONE
BEGIN:VEVENT
DTSTART;TZID=UTC:20260425T140000
DTEND;TZID=UTC:20260425T170000
DTSTAMP:20260425T120548
CREATED:20260324T130842Z
LAST-MODIFIED:20260327T150737Z
UID:1222-1777125600-1777136400@ndky.org
SUMMARY:L.O.V.E WALK
DESCRIPTION:
URL:https://ndky.org/event/l-o-v-e-walk/
LOCATION:Schooler Prep Academy\, 2509 Portland Avenue\, Louisville\, 40212\, United States
END:VEVENT
END:VCALENDAR